BEGIN:VCALENDAR
VERSION:2.0
PRODID:-//Feministisches Bündnis Braunschweig - ECPv6.8.2.1//NONSGML v1.0//EN
CALSCALE:GREGORIAN
METHOD:PUBLISH
X-ORIGINAL-URL:https://web.feministisches-buendnis-bs.de
X-WR-CALDESC:Veranstaltungen für Feministisches Bündnis Braunschweig
REFRESH-INTERVAL;VALUE=DURATION:PT1H
X-Robots-Tag:noindex
X-PUBLISHED-TTL:PT1H
BEGIN:VTIMEZONE
TZID:Europe/Berlin
BEGIN:DAYLIGHT
TZOFFSETFROM:+0100
TZOFFSETTO:+0200
TZNAME:CEST
DTSTART:20240331T010000
END:DAYLIGHT
BEGIN:STANDARD
TZOFFSETFROM:+0200
TZOFFSETTO:+0100
TZNAME:CET
DTSTART:20241027T010000
END:STANDARD
END:VTIMEZONE
BEGIN:VEVENT
DTSTART;TZID=Europe/Berlin:20240308T180000
DTEND;TZID=Europe/Berlin:20240308T203000
DTSTAMP:20260420T230908
CREATED:20240114T140025Z
LAST-MODIFIED:20240214T190611Z
UID:1000-1709920800-1709929800@web.feministisches-buendnis-bs.de
SUMMARY:Demo am 8. März
DESCRIPTION:Zum internationalen feministischen Kampftag laden wir euch ein mit uns auf die Straße zu gehen. Wir kämpfen gegen ein System\, in dem FLINTA* weltweit durch alltägliche patriarchale Gewalt unterdrückt und ausgebeutet werden\, denn: \n1. FLINTA* dürfen nicht frei über ihren Körper bestimmen.\nSchwangerschaftsabbrüche sind in Deutschland auch heute nur unter bestimmten Voraussetzungen straffrei. Trans* Personen stehen vor enormen bürokratischen und finanziellen Hürden\, wenn sie sich zu einer Änderung des Geschlechtseintrags oder zu geschlechtsangleichenden Operationen entschließen. \n2. Ungerechte Arbeitsteilung verbannt Frauen und marginalisierte Geschlechter ins Private.\nGesamtgesellschaftlich (überlebens)notwendige Fürsorgearbeit (Erziehung\, Pflege und Haushalt) wird FLINTA* auferlegt. Sie wird nicht entlohnt\, bietet wenig Anerkennung und schafft strukturell eine finanzielle Abhängigkeit. \n3. FLINTA* werden beklaut.\nWährend die Reichen in Krisenzeiten immer reicher werden\, reicht es für immer mehr Menschen nicht mehr für das Nötigste. FLINTA* sind davon besonders stark betroffen\, weil sie auf dem Arbeitsmarkt benachteiligt und schlechter entlohnt werden. FLINTA* sind deswegen überdurchschnittlich von Armut betroffen. \n4. Gewalt gegen FLINTA* ist Alltag.\nFLINTA* sind massiv von sexualisierter Gewalt betroffen. Jeden dritten Tag geschieht in Deutschland ein Femizid – weltweit sogar alle elf Minuten. Die Tötung von Frauen auf Grund ihres Geschlechts resultiert meistens aus vermeintlichen Besitzansprüchen von (Ex-)Partnern\, Vätern oder Brüdern. Auch die Häufigkeit und Massivität körperlicher Übergriffe auf trans* und nicht-binäre Personen nimmt deutlich zu. \n5. Gewalt gegen Frauen wird als Kriegswaffe eingesetzt.\nDie traditionelle Rollenverteilung\, die sich in Kriegssituationen weiter zuspitzt\, macht Frauen umso mehr zur Zielscheibe patriarchaler Grausamkeit. Sexualisierte Gewalt wird als gezielte Kriegsstrategie eingesetzt. \nDiese unterschiedlichen Formen von Unterdrückung und Gewalt sind kein Naturgesetz\, sondern grausame Barbarei. In den letzten Jahren hat sich die Lage verschärft. Rechte\, die wir erstritten haben\, werden angegriffen. Rechtes Gedankengut\, wie es etwa die AFD propagiert\, ist wieder auf dem Vormarsch und will uns zurück in traditionelle Geschlechterrollen drängen. Wir sehen\, dass die Rechte von FLINTA* nicht selbstverständlich sind und wir weiterhin dafür auf die Straße gehen müssen! \nRosa Luxemburg prägte den Ausdruck „Sozialismus oder Barbarei“. Mit dieser Formulierung warnte sie vor den Katastrophen des Krieges\, des Faschismus und den unmenschlichen Auswüchsen des Kapitalismus. Daran angelehnt rufen wir unter der Devise „Feminismus oder Barbarei“ zur Demonstration am 8. März 2024 auf. \nDie Demo ist für all gender offen\, es gibt einen FLINTA*-Block. Die After-Demo-Party in der Klaue ist 20-23 Uhr für ­FLINTA*-only. \nFLINTA* = Frauen\, Lesben\, inter*\, Nicht-Binäre\, trans*\, agender
URL:https://web.feministisches-buendnis-bs.de/termin/demo-zum-8-maerz/
LOCATION:Kohlmarkt\, Kohlmarkt\, Braunschweig
CATEGORIES:8.März Bündnis
ATTACH;FMTTYPE=image/jpeg:https://web.feministisches-buendnis-bs.de/wp-content/uploads/2024/02/signal-2024-02-14-194109.jpeg
ORGANIZER;CN="Feministisches B%C3%BCndnis Braunschweig":MAILTO:info@feministisches-buendnis-bs.de
END:VEVENT
END:VCALENDAR