BEGIN:VCALENDAR
VERSION:2.0
PRODID:-//Feministisches Bündnis Braunschweig - ECPv6.8.2.1//NONSGML v1.0//EN
CALSCALE:GREGORIAN
METHOD:PUBLISH
X-ORIGINAL-URL:https://web.feministisches-buendnis-bs.de
X-WR-CALDESC:Veranstaltungen für Feministisches Bündnis Braunschweig
REFRESH-INTERVAL;VALUE=DURATION:PT1H
X-Robots-Tag:noindex
X-PUBLISHED-TTL:PT1H
BEGIN:VTIMEZONE
TZID:Europe/Berlin
BEGIN:DAYLIGHT
TZOFFSETFROM:+0100
TZOFFSETTO:+0200
TZNAME:CEST
DTSTART:20260329T010000
END:DAYLIGHT
BEGIN:STANDARD
TZOFFSETFROM:+0200
TZOFFSETTO:+0100
TZNAME:CET
DTSTART:20261025T010000
END:STANDARD
END:VTIMEZONE
BEGIN:VEVENT
DTSTART;TZID=Europe/Berlin:20260305T190000
DTEND;TZID=Europe/Berlin:20260305T190000
DTSTAMP:20260421T144935
CREATED:20260302T094919Z
LAST-MODIFIED:20260302T094919Z
UID:1169-1772737200-1772737200@web.feministisches-buendnis-bs.de
SUMMARY:Club Molli
DESCRIPTION:Zusammen mit dem Feministischen Bündnis Braunschweig läd Club Molli zum Warmtanzen für den Internationalen Feministischen Kampftag ins Nexus ein!\nEs gibt ein feuriges Line-Up und eine Soli-Tombola mit vielen tollen Gewinnen.\nAm Stand des Feministischen Bündnisses könnt ihr euch informieren\, austauschen und vernetzen um gemeinsam wütend aber hoffnungsvoll am 08. März auf die Straßen zu gehen! \n19:00 Uhr doors\n20-22 Uhr Stacy @stacy_9_9\n22-00 Uhr BLYSS @dj_blyss\n00-02 Uhr Hanna & Sichel @hannaundsichel \nAlle Soli-Einnahmen von diesem Abend gehen an die @lila_hilfe.
URL:https://web.feministisches-buendnis-bs.de/termin/club-molli/
LOCATION:Nexus\, Frankfurter Str. 253b\, Braunschweig\, 38122\, Germany
END:VEVENT
BEGIN:VEVENT
DTSTART;TZID=Europe/Berlin:20260307T160000
DTEND;TZID=Europe/Berlin:20260307T190000
DTSTAMP:20260421T144935
CREATED:20260302T095439Z
LAST-MODIFIED:20260302T095439Z
UID:1172-1772899200-1772910000@web.feministisches-buendnis-bs.de
SUMMARY:Antipatriarchale Bastelaktion
DESCRIPTION:Wut gehört auf die Straße.\nUnd das sollen auch Banner\, Schilder und Plakate während der Demo am 8. März zeigen! \nAm 7. März basteln wir gemeinsam Demoschilder für den feministischen Kampftag.\nAußerdem werden wir auch Schilder aus dem letzten Jahr reparieren.\nBring deine Wut.\nBring deine Forderungen.\nBring deine Freund*innen. \n🗓 7. März\n🕓 16 Uhr\n📍 Nexus\, Braunschweig \nOb laut\, wütend\, poetisch oder radikal –\ndeine Stimme gehört sichtbar gemacht. \nMaterial ist da. Fehlen nur noch eure Ideen. \nP.S. Ab 19:00 Uhr gibt’s eine ordentliche Portion Karaoke-Power.\nHerzschmerz-Ballade\, wütender Punk\, feministischer Klassiker oder Guilty Pleasure –\nalles darf raus.
URL:https://web.feministisches-buendnis-bs.de/termin/antipatriarchale-bastelaktion/
ORGANIZER;CN="Feministisches B%C3%BCndnis Braunschweig":MAILTO:info@feministisches-buendnis-bs.de
END:VEVENT
BEGIN:VEVENT
DTSTART;TZID=Europe/Berlin:20260308T140000
DTEND;TZID=Europe/Berlin:20260308T160000
DTSTAMP:20260421T144935
CREATED:20260302T094109Z
LAST-MODIFIED:20260302T094109Z
UID:1165-1772978400-1772985600@web.feministisches-buendnis-bs.de
SUMMARY:Demo zum 8. März
DESCRIPTION:Zum internationalen feministischen Kampftag gehen wir am 8. März auf die Straße. Mit einer bunten und lauten Demonstration wollen wir unsere Wut auf die Verhältnisse auf die Straße bringen.
URL:https://web.feministisches-buendnis-bs.de/termin/demo-zum-8-maerz-2/
LOCATION:Braunschweig Kohlmarkt
ORGANIZER;CN="Feministisches B%C3%BCndnis Braunschweig":MAILTO:info@feministisches-buendnis-bs.de
END:VEVENT
BEGIN:VEVENT
DTSTART;TZID=Europe/Berlin:20260308T160000
DTEND;TZID=Europe/Berlin:20260308T180000
DTSTAMP:20260421T144935
CREATED:20260302T100421Z
LAST-MODIFIED:20260302T100421Z
UID:1174-1772985600-1772992800@web.feministisches-buendnis-bs.de
SUMMARY:After Demo Party
DESCRIPTION:Demo vorbei – Stimme heiser – Adrenalin noch da? \nDann kommt mit ins @cafe.riptide zur After-Demo-Kneipe! \nAb 16 Uhr treffen wir uns dort\, um den Tag gemeinsam ausklingen zu lassen.\nReden\, lachen\, verarbeiten\, weiterdenken.\nVielleicht neue Leute kennenlernen.\nVielleicht einfach kurz sitzen und nichts müssen. \n📍 Riptide\, Braunschweig\n⏰ bis ca. 18 Uhr\nFLINTA* only
URL:https://web.feministisches-buendnis-bs.de/termin/after-demo-party/
LOCATION:Riptide\, Ölschlägern 14\, Braunschweig
ORGANIZER;CN="Feministisches B%C3%BCndnis Braunschweig":MAILTO:info@feministisches-buendnis-bs.de
END:VEVENT
BEGIN:VEVENT
DTSTART;TZID=Europe/Berlin:20260309T140000
DTEND;TZID=Europe/Berlin:20260309T160000
DTSTAMP:20260421T144935
CREATED:20260302T102214Z
LAST-MODIFIED:20260302T102214Z
UID:1180-1773064800-1773072000@web.feministisches-buendnis-bs.de
SUMMARY:Frauenstreik
DESCRIPTION:Am 09. März gehen Bundesweit Frauen* auf die Straße- auch wir in Braunschweig 💜\nWir versammeln uns von 14 bis 16 Uhr auf dem Schlossplatz\, zeigen was passiert\, wenn wir unsere Arbeit niederlassen.\nDenn ohne uns steht alles still! Und wir fordern strukturelle Veränderungen!
URL:https://web.feministisches-buendnis-bs.de/termin/frauenstreik/
LOCATION:Schlossplatz\, Braunschweig
END:VEVENT
BEGIN:VEVENT
DTSTART;TZID=Europe/Berlin:20260312T190000
DTEND;TZID=Europe/Berlin:20260312T190000
DTSTAMP:20260421T144935
CREATED:20260302T100822Z
LAST-MODIFIED:20260302T100822Z
UID:1178-1773342000-1773342000@web.feministisches-buendnis-bs.de
SUMMARY:FLINTA* Care-Kneipe
DESCRIPTION:Im Anschluss an den feministischen Kampftag läd das @platzda_kollektiv  ♥️-lichst zu einer FLINTA* only-After Care-Kneipe am 12.03. ab 19 Uhr im Nexus einladen. Es wird Raum zum Austausch geben\, zum gemütlich zusammenkommen\, aber auch um Wut rauszulassen. Wir haben wieder eine Bastelecke und ein Tischkicker-Turnier vorbereitet\, für alle\, die Lust auf ein bisschen Action haben. Ihr könnt euch aber auch gern einfach gemütlich einmuckeln und ein Heißgetränk trinken.\nEs wird süße und herzhafte Toasties\, Popcorn und heiße Schoki geben.\nGerne könnt ihr auch Sachen mitbringen\, die ihr für eine After-Care nach dem fem. Kampftag braucht (Snacks\, Fidget Toys\, Spiele\, …).\nWir freuen uns auf auch! ✨
URL:https://web.feministisches-buendnis-bs.de/termin/flinta-care-kneipe/
LOCATION:Nexus\, Frankfurter Str. 253b\, Braunschweig\, 38122\, Germany
END:VEVENT
END:VCALENDAR